BEGIN:VCALENDAR
VERSION:2.0
PRODID:-//www.tabitha.org - ECPv6.11.2.1//NONSGML v1.0//EN
CALSCALE:GREGORIAN
METHOD:PUBLISH
X-WR-CALNAME:www.tabitha.org
X-ORIGINAL-URL:https://www.tabitha.org
X-WR-CALDESC:Events for www.tabitha.org
REFRESH-INTERVAL;VALUE=DURATION:PT1H
X-Robots-Tag:noindex
X-PUBLISHED-TTL:PT1H
BEGIN:VTIMEZONE
TZID:America/Chicago
BEGIN:DAYLIGHT
TZOFFSETFROM:-0600
TZOFFSETTO:-0500
TZNAME:CDT
DTSTART:20240310T080000
END:DAYLIGHT
BEGIN:STANDARD
TZOFFSETFROM:-0500
TZOFFSETTO:-0600
TZNAME:CST
DTSTART:20241103T070000
END:STANDARD
END:VTIMEZONE
BEGIN:VEVENT
DTSTART;TZID=America/Chicago:20241108T140000
DTEND;TZID=America/Chicago:20241108T150000
DTSTAMP:20260420T193142
CREATED:20241022T163921Z
LAST-MODIFIED:20241022T164257Z
UID:29036-1731074400-1731078000@www.tabitha.org
SUMMARY:Hope for the Holidays Presentations
DESCRIPTION:Join Tabitha’s Bereavement Coordinators for a presentation on grieving through the holiday season. \nTopics include helpful planning\, emotional readiness and Dr. Wolfelt’s “Four R’s” as means to make the holidays a little more bearable. \n\n\nRegister
URL:https://www.tabitha.org/event/hope-for-the-holidays-tabitha-bereavement/
LOCATION:Scooter’s Coffee – S. 84th\, 2901 S. 84th St.\, Lincoln\, NE\, 68506\, United States
CATEGORIES:Grief Group
ATTACH;FMTTYPE=image/jpeg:https://www.tabitha.org/wp-content/uploads/2024/10/ornaments-on-a-christmas-tree-twigs-2024-09-06-03-28-43-utc.jpg
END:VEVENT
END:VCALENDAR