BEGIN:VCALENDAR
VERSION:2.0
PRODID:-//www.tabitha.org - ECPv6.11.2.1//NONSGML v1.0//EN
CALSCALE:GREGORIAN
METHOD:PUBLISH
X-WR-CALNAME:www.tabitha.org
X-ORIGINAL-URL:https://www.tabitha.org
X-WR-CALDESC:Events for www.tabitha.org
REFRESH-INTERVAL;VALUE=DURATION:PT1H
X-Robots-Tag:noindex
X-PUBLISHED-TTL:PT1H
BEGIN:VTIMEZONE
TZID:America/Chicago
BEGIN:DAYLIGHT
TZOFFSETFROM:-0600
TZOFFSETTO:-0500
TZNAME:CDT
DTSTART:20250309T080000
END:DAYLIGHT
BEGIN:STANDARD
TZOFFSETFROM:-0500
TZOFFSETTO:-0600
TZNAME:CST
DTSTART:20251102T070000
END:STANDARD
END:VTIMEZONE
BEGIN:VEVENT
DTSTART;TZID=America/Chicago:20250423T100000
DTEND;TZID=America/Chicago:20250423T160000
DTSTAMP:20260423T142916
CREATED:20241230T143004Z
LAST-MODIFIED:20241230T143004Z
UID:29854-1745402400-1745424000@www.tabitha.org
SUMMARY:Tabitha at Prairie Commons Hiring Event
DESCRIPTION:Join Tabitha for a Hiring Event in Grand Island. \nFeaturing interviews\, tours\, on-the-spot job offers and retention bonuses! \n\n\nView Job Opportunities
URL:https://www.tabitha.org/event/tabitha-at-prairie-commons-april-hiring-event/
LOCATION:Tabitha at Prairie Commons\, 3490 Ewoldt St.\, Grand Island\, NE\, 68803\, United States
CATEGORIES:Hiring Event
ATTACH;FMTTYPE=image/png:https://www.tabitha.org/wp-content/uploads/2024/04/TC_Hiring-Event-Web-Cover.png
END:VEVENT
END:VCALENDAR