BEGIN:VCALENDAR
VERSION:2.0
PRODID:-//www.tabitha.org - ECPv6.11.2.1//NONSGML v1.0//EN
CALSCALE:GREGORIAN
METHOD:PUBLISH
X-ORIGINAL-URL:https://www.tabitha.org
X-WR-CALDESC:Events for www.tabitha.org
REFRESH-INTERVAL;VALUE=DURATION:PT1H
X-Robots-Tag:noindex
X-PUBLISHED-TTL:PT1H
BEGIN:VTIMEZONE
TZID:America/Chicago
BEGIN:DAYLIGHT
TZOFFSETFROM:-0600
TZOFFSETTO:-0500
TZNAME:CDT
DTSTART:20250309T080000
END:DAYLIGHT
BEGIN:STANDARD
TZOFFSETFROM:-0500
TZOFFSETTO:-0600
TZNAME:CST
DTSTART:20251102T070000
END:STANDARD
END:VTIMEZONE
BEGIN:VEVENT
DTSTART;TZID=America/Chicago:20250605T090000
DTEND;TZID=America/Chicago:20250605T160000
DTSTAMP:20260423T110413
CREATED:20241230T144033Z
LAST-MODIFIED:20241230T144033Z
UID:29858-1749114000-1749139200@www.tabitha.org
SUMMARY:Tabitha Nursing & Rehabilitation Center Hiring Event
DESCRIPTION:Join Tabitha for a Hiring Event in Lincoln. \nFeaturing interviews\, tours\, on-the-spot job offers and retention bonuses! \n\n\nView Job Opportunities
URL:https://www.tabitha.org/event/tabitha-nursing-rehabilitation-center-june-hiring-event/
LOCATION:Tabitha Nursing & Rehabilitation Center\, 4720 Randolph Street\, Lincoln\, NE\, 68510\, United States
CATEGORIES:Hiring Event
ATTACH;FMTTYPE=image/png:https://www.tabitha.org/wp-content/uploads/2024/04/TC_Hiring-Event-Web-Cover.png
END:VEVENT
END:VCALENDAR