BEGIN:VCALENDAR
VERSION:2.0
PRODID:-//www.tabitha.org - ECPv6.11.2.1//NONSGML v1.0//EN
CALSCALE:GREGORIAN
METHOD:PUBLISH
X-ORIGINAL-URL:https://www.tabitha.org
X-WR-CALDESC:Events for www.tabitha.org
REFRESH-INTERVAL;VALUE=DURATION:PT1H
X-Robots-Tag:noindex
X-PUBLISHED-TTL:PT1H
BEGIN:VTIMEZONE
TZID:America/Chicago
BEGIN:DAYLIGHT
TZOFFSETFROM:-0600
TZOFFSETTO:-0500
TZNAME:CDT
DTSTART:20240310T080000
END:DAYLIGHT
BEGIN:STANDARD
TZOFFSETFROM:-0500
TZOFFSETTO:-0600
TZNAME:CST
DTSTART:20241103T070000
END:STANDARD
END:VTIMEZONE
BEGIN:VTIMEZONE
TZID:UTC
BEGIN:STANDARD
TZOFFSETFROM:+0000
TZOFFSETTO:+0000
TZNAME:UTC
DTSTART:20230101T000000
END:STANDARD
END:VTIMEZONE
BEGIN:VEVENT
DTSTART;TZID=America/Chicago:20241107T090000
DTEND;TZID=America/Chicago:20241107T160000
DTSTAMP:20260423T153241
CREATED:20240820T152432Z
LAST-MODIFIED:20240820T152432Z
UID:26424-1730970000-1730995200@www.tabitha.org
SUMMARY:Tabitha Nursing & Rehabilitation Center Hiring Event
DESCRIPTION:Join Tabitha for a Hiring Event in Lincoln. \nFeaturing interviews\, tours\, on-the-spot job offers and retention bonuses! \n\n\nView Job Opportunities
URL:https://www.tabitha.org/event/fall-tabitha-nursing-rehabilitation-center-hiring-event/
LOCATION:Tabitha Nursing & Rehabilitation Center\, 4720 Randolph Street\, Lincoln\, NE\, 68510\, United States
CATEGORIES:Hiring Event
ATTACH;FMTTYPE=image/png:https://www.tabitha.org/wp-content/uploads/2024/04/TC_Hiring-Event-Web-Cover.png
END:VEVENT
BEGIN:VEVENT
DTSTART;TZID=America/Chicago:20241023T100000
DTEND;TZID=America/Chicago:20241023T150000
DTSTAMP:20260423T153241
CREATED:20240820T152155Z
LAST-MODIFIED:20241022T153036Z
UID:26422-1729677600-1729695600@www.tabitha.org
SUMMARY:Tabitha at Prairie Commons Hiring Event
DESCRIPTION:Join Tabitha for a Hiring Event in Grand Island. \nFeaturing interviews\, tours\, on-the-spot job offers and retention bonuses! \n\n\nView Job Opportunities
URL:https://www.tabitha.org/event/tabitha-at-prairie-commons-hiring-event/
LOCATION:Tabitha at Prairie Commons\, 3490 Ewoldt St.\, Grand Island\, NE\, 68803\, United States
CATEGORIES:Hiring Event
ATTACH;FMTTYPE=image/png:https://www.tabitha.org/wp-content/uploads/2024/04/TC_Hiring-Event-Web-Cover.png
END:VEVENT
BEGIN:VEVENT
DTSTART;TZID=America/Chicago:20241009T110000
DTEND;TZID=America/Chicago:20241009T160000
DTSTAMP:20260423T153241
CREATED:20240820T151954Z
LAST-MODIFIED:20240820T151954Z
UID:26420-1728471600-1728489600@www.tabitha.org
SUMMARY:Tabitha at Williamsburg Hiring Event
DESCRIPTION:Join Tabitha for a Hiring Event in south Lincoln. \nHeld at Tabitha at Williamsburg’s Harbor House\, located at 6100 S. 34th St. in Lincoln. \nFeaturing interviews\, tours\, on-the-spot job offers and retention bonuses! \n\n\nView Job Opportunities
URL:https://www.tabitha.org/event/tabitha-at-williamsburg-hiring-event/
LOCATION:Tabitha at Williamsburg – Harbor House\, 6100 S. 34th St.\, Lincoln\, NE\, 68516\, United States
CATEGORIES:Hiring Event
ATTACH;FMTTYPE=image/png:https://www.tabitha.org/wp-content/uploads/2024/04/TC_Hiring-Event-Web-Cover.png
END:VEVENT
BEGIN:VEVENT
DTSTART;TZID=America/Chicago:20240926T120000
DTEND;TZID=America/Chicago:20240926T160000
DTSTAMP:20260423T153241
CREATED:20240604T144258Z
LAST-MODIFIED:20240903T134916Z
UID:25625-1727352000-1727366400@www.tabitha.org
SUMMARY:Tabitha in Crete Hiring Event
DESCRIPTION:Join Tabitha for a Hiring Event in Crete. \nEvent will be held at Tabitha in Crete Multipurpose Building at 1800 E. 13th St.\, Crete\, NE. \nFeaturing interviews\, tours\, on-the-spot job offers and retention bonuses! \n\n\nView Job Opportunities
URL:https://www.tabitha.org/event/tabitha-in-crete-hiring-event-september/
LOCATION:Tabitha in Crete\, 1800 E. 13th St.\, Crete\, NE\, 68333\, United States
CATEGORIES:Hiring Event
ATTACH;FMTTYPE=image/png:https://www.tabitha.org/wp-content/uploads/2024/04/TC_Hiring-Event-Web-Cover.png
END:VEVENT
BEGIN:VEVENT
DTSTART;TZID=America/Chicago:20240828T100000
DTEND;TZID=America/Chicago:20240828T160000
DTSTAMP:20260423T153241
CREATED:20240604T144009Z
LAST-MODIFIED:20240604T144009Z
UID:25623-1724839200-1724860800@www.tabitha.org
SUMMARY:Tabitha Nursing & Rehabilitation Center Hiring Event
DESCRIPTION:Join Tabitha for a Hiring Event in Lincoln. \nFeaturing interviews\, tours\, on-the-spot job offers and retention bonuses! \n\n\nView Job Opportunities
URL:https://www.tabitha.org/event/tabitha-nursing-rehabilitation-center-hiring-event-august/
LOCATION:Tabitha Nursing & Rehabilitation Center\, 4720 Randolph Street\, Lincoln\, NE\, 68510\, United States
CATEGORIES:Hiring Event
ATTACH;FMTTYPE=image/png:https://www.tabitha.org/wp-content/uploads/2024/04/TC_Hiring-Event-Web-Cover.png
END:VEVENT
BEGIN:VEVENT
DTSTART;TZID=America/Chicago:20240807T100000
DTEND;TZID=America/Chicago:20240807T160000
DTSTAMP:20260423T153241
CREATED:20240604T143639Z
LAST-MODIFIED:20240604T143639Z
UID:25621-1723024800-1723046400@www.tabitha.org
SUMMARY:Tabitha at Prairie Commons Hiring Event
DESCRIPTION:Join Tabitha for a Hiring Event in Grand Island. \nFeaturing interviews\, tours\, on-the-spot job offers and retention bonuses! \n\n\nView Job Opportunities
URL:https://www.tabitha.org/event/tabitha-at-prairie-commons-summer-hiring-event/
LOCATION:Tabitha at Prairie Commons\, 3490 Ewoldt St.\, Grand Island\, NE\, 68803\, United States
CATEGORIES:Hiring Event
ATTACH;FMTTYPE=image/png:https://www.tabitha.org/wp-content/uploads/2024/04/TC_Hiring-Event-Web-Cover.png
END:VEVENT
BEGIN:VEVENT
DTSTART;TZID=America/Chicago:20240718T110000
DTEND;TZID=America/Chicago:20240718T160000
DTSTAMP:20260423T153241
CREATED:20240604T143407Z
LAST-MODIFIED:20240604T143407Z
UID:25619-1721300400-1721318400@www.tabitha.org
SUMMARY:Tabitha at Williamsburg Hiring Event
DESCRIPTION:Join Tabitha for a Hiring Event in south Lincoln. \nHeld at Tabitha at Williamsburg’s Harbor House\, located at 6100 S. 34th St. in Lincoln. \nFeaturing interviews\, tours\, on-the-spot job offers and retention bonuses! \n\n\nView Job Opportunities
URL:https://www.tabitha.org/event/tabitha-at-williamsburg-july-hiring-event/
LOCATION:Tabitha at Williamsburg – Harbor House\, 6100 S. 34th St.\, Lincoln\, NE\, 68516\, United States
CATEGORIES:Hiring Event
ATTACH;FMTTYPE=image/png:https://www.tabitha.org/wp-content/uploads/2024/04/TC_Hiring-Event-Web-Cover.png
END:VEVENT
BEGIN:VEVENT
DTSTART;TZID=America/Chicago:20240627T090000
DTEND;TZID=America/Chicago:20240627T160000
DTSTAMP:20260423T153241
CREATED:20240412T171045Z
LAST-MODIFIED:20240412T171045Z
UID:24905-1719478800-1719504000@www.tabitha.org
SUMMARY:Tabitha Nursing & Rehabilitation Center Hiring Event
DESCRIPTION:Join Tabitha for a Hiring Event in Lincoln. \nFeaturing interviews\, tours\, on-the-spot job offers and retention bonuses! \n\n\nView Job Opportunities
URL:https://www.tabitha.org/event/tabitha-summer-hiring-event/
LOCATION:Tabitha Nursing & Rehabilitation Center\, 4720 Randolph Street\, Lincoln\, NE\, 68510\, United States
CATEGORIES:Hiring Event
ATTACH;FMTTYPE=image/png:https://www.tabitha.org/wp-content/uploads/2024/04/TC_Hiring-Event-Web-Cover.png
END:VEVENT
BEGIN:VEVENT
DTSTART;TZID=America/Chicago:20240611T100000
DTEND;TZID=America/Chicago:20240611T150000
DTSTAMP:20260423T153241
CREATED:20240412T170807Z
LAST-MODIFIED:20240412T170807Z
UID:24903-1718100000-1718118000@www.tabitha.org
SUMMARY:Tabitha at Prairie Commons Hiring Event
DESCRIPTION:Join Tabitha for a Hiring Event in Grand Island. \nFeaturing interviews\, tours\, on-the-spot job offers and retention bonuses! \n\n\nView Job Opportunities
URL:https://www.tabitha.org/event/tabitha-prairie-commons-hiring-event/
LOCATION:Tabitha at Prairie Commons\, 3490 Ewoldt St.\, Grand Island\, NE\, 68803\, United States
CATEGORIES:Hiring Event
ATTACH;FMTTYPE=image/png:https://www.tabitha.org/wp-content/uploads/2024/04/TC_Hiring-Event-Web-Cover.png
END:VEVENT
BEGIN:VEVENT
DTSTART;TZID=America/Chicago:20240516T110000
DTEND;TZID=America/Chicago:20240516T160000
DTSTAMP:20260423T153241
CREATED:20240412T170411Z
LAST-MODIFIED:20240412T170411Z
UID:24900-1715857200-1715875200@www.tabitha.org
SUMMARY:Tabitha at Williamsburg Hiring Event
DESCRIPTION:Join Tabitha for a Hiring Event in south Lincoln. \nEvent will take place at Tabitha at Williamsburg’s Harbor House\, located at 6100 S. 34th St.\, Lincoln\, NE. \nFeaturing interviews\, tours\, on-the-spot job offers\, and retention bonuses! \n\n\nView Job Opportunities
URL:https://www.tabitha.org/event/tabitha-williamsburg-hiring-event/
LOCATION:Tabitha at Williamsburg – Harbor House\, 6100 S. 34th St.\, Lincoln\, NE\, 68516\, United States
CATEGORIES:Hiring Event
ATTACH;FMTTYPE=image/png:https://www.tabitha.org/wp-content/uploads/2024/04/TC_Hiring-Event-Web-Cover.png
END:VEVENT
BEGIN:VEVENT
DTSTART;TZID=America/Chicago:20240502T120000
DTEND;TZID=America/Chicago:20240502T160000
DTSTAMP:20260423T153241
CREATED:20240412T170054Z
LAST-MODIFIED:20240412T170523Z
UID:24898-1714651200-1714665600@www.tabitha.org
SUMMARY:Tabitha in Crete Hiring Event
DESCRIPTION:Join Tabitha for a Hiring Event in Crete. \nEvent will be held at Tabitha in Crete Multipurpose Building at 1800 E. 13th St.\, Crete\, NE. \nFeaturing interviews\, tours\, on-the-spot job offers and retention bonuses! \n\n\nView Job Opportunities
URL:https://www.tabitha.org/event/tabitha-crete-hiring-event/
LOCATION:Tabitha in Crete\, 1800 E. 13th St.\, Crete\, NE\, 68333\, United States
CATEGORIES:Hiring Event
ATTACH;FMTTYPE=image/png:https://www.tabitha.org/wp-content/uploads/2024/04/TC_Hiring-Event-Web-Cover.png
END:VEVENT
BEGIN:VEVENT
DTSTART;TZID=America/Chicago:20240417T110000
DTEND;TZID=America/Chicago:20240417T170000
DTSTAMP:20260423T153241
CREATED:20240412T165638Z
LAST-MODIFIED:20240412T165638Z
UID:24893-1713351600-1713373200@www.tabitha.org
SUMMARY:Tabitha Nursing & Rehabilitation Center Hiring Event
DESCRIPTION:Join Tabitha for a Hiring Event in Lincoln! \nFeaturing interviews\, tours\, on-the-spot job offers\, retention bonuses and giveaways. \n\n\nView Job Opportunities
URL:https://www.tabitha.org/event/tabitha-nursing-rehabilitation-center-hiring-event/
LOCATION:Tabitha Nursing & Rehabilitation Center\, 4720 Randolph Street\, Lincoln\, NE\, 68510\, United States
CATEGORIES:Hiring Event
ATTACH;FMTTYPE=image/png:https://www.tabitha.org/wp-content/uploads/2024/04/TC_Hiring-Event-Web-Cover.png
END:VEVENT
BEGIN:VEVENT
DTSTART;TZID=America/Chicago:20240403T110000
DTEND;TZID=America/Chicago:20240403T160000
DTSTAMP:20260423T153241
CREATED:20240412T171207Z
LAST-MODIFIED:20240412T171207Z
UID:24906-1712142000-1712160000@www.tabitha.org
SUMMARY:Tabitha at Prairie Commons Hiring Event
DESCRIPTION:Join Tabitha for a Hiring Event in Grand Island. \nFeaturing interviews\, tours\, on-the-spot job offers and retention bonuses! \n\n\nView Job Opportunities
URL:https://www.tabitha.org/event/tabitha-prairie-commons-spring-hiring-event/
LOCATION:Tabitha at Prairie Commons\, 3490 Ewoldt St.\, Grand Island\, NE\, 68803\, United States
CATEGORIES:Hiring Event
ATTACH;FMTTYPE=image/png:https://www.tabitha.org/wp-content/uploads/2024/04/TC_Hiring-Event-Web-Cover.png
END:VEVENT
BEGIN:VEVENT
DTSTART;TZID=UTC:20240131T120000
DTEND;TZID=UTC:20240131T180000
DTSTAMP:20260423T153241
CREATED:20231216T033937Z
LAST-MODIFIED:20231216T034008Z
UID:20964-1706702400-1706724000@www.tabitha.org
SUMMARY:TNRC Hiring Event
DESCRIPTION:
URL:https://www.tabitha.org/event/tnrc-hiring-event/
LOCATION:Tabitha Nursing & Rehabilitation Center\, 4720 Randolph Street\, Lincoln\, NE\, 68510\, United States
CATEGORIES:Hiring Event
END:VEVENT
BEGIN:VEVENT
DTSTART;TZID=UTC:20230810T100000
DTEND;TZID=UTC:20230810T160000
DTSTAMP:20260423T153241
CREATED:20230715T000838Z
LAST-MODIFIED:20230715T002106Z
UID:14833-1691661600-1691683200@www.tabitha.org
SUMMARY:Hiring Event: New Opportunities on the Horizon
DESCRIPTION:Summer may be ending — but new opportunities are on the horizon!\nJoin us for a hiring event in Lincoln: \n\nSign-on bonus extravaganza*\nOn-the-spot job offers\nAwesome TEAMember benefits\nFlexible schedules\, perfect for students\nTuition reimbursement program\, courtesy of Tabitha’s Workforce Development program\n\n…AND MUCH MORE!\n* For qualifying candidates \nTabitha is an Affirmative Action & Equal Opportunity Employer
URL:https://www.tabitha.org/event/new-opportunities-are-on-the-horizon/
LOCATION:Tabitha Nursing & Rehabilitation Center\, 4720 Randolph Street\, Lincoln\, NE\, 68510\, United States
CATEGORIES:Hiring Event
ATTACH;FMTTYPE=image/png:https://www.tabitha.org/wp-content/uploads/2023/07/HiringEvent_Summer-Ending.png
END:VEVENT
END:VCALENDAR