BEGIN:VCALENDAR
VERSION:2.0
PRODID:-//www.tabitha.org - ECPv6.11.2.1//NONSGML v1.0//EN
CALSCALE:GREGORIAN
METHOD:PUBLISH
X-WR-CALNAME:www.tabitha.org
X-ORIGINAL-URL:https://www.tabitha.org
X-WR-CALDESC:Events for www.tabitha.org
REFRESH-INTERVAL;VALUE=DURATION:PT1H
X-Robots-Tag:noindex
X-PUBLISHED-TTL:PT1H
BEGIN:VTIMEZONE
TZID:UTC
BEGIN:STANDARD
TZOFFSETFROM:+0000
TZOFFSETTO:+0000
TZNAME:UTC
DTSTART:20230101T000000
END:STANDARD
END:VTIMEZONE
BEGIN:VEVENT
DTSTART;TZID=UTC:20231219T130000
DTEND;TZID=UTC:20231219T140000
DTSTAMP:20260420T095626
CREATED:20231214T015131Z
LAST-MODIFIED:20231215T204534Z
UID:20771-1702990800-1702994400@www.tabitha.org
SUMMARY:Men's Coffee and Grief Group - Lincoln
DESCRIPTION:Gather to learn about others’ grief\, share stories and discuss where you are in your own grieving journey. \n\n\n\n\nRegister
URL:https://www.tabitha.org/event/mens-coffee-and-grief-group-lincoln/
LOCATION:Scooter’s Coffee\, 4500 S. 70th St.\, Lincoln\, NE\, 68516\, United States
CATEGORIES:Grief Group
ATTACH;FMTTYPE=image/png:https://www.tabitha.org/wp-content/uploads/2023/12/MensCoffee_Grief-copy_SM.png
END:VEVENT
BEGIN:VEVENT
DTSTART;TZID=UTC:20231226T133000
DTEND;TZID=UTC:20231226T150000
DTSTAMP:20260420T095626
CREATED:20231214T033718Z
LAST-MODIFIED:20240618T145709Z
UID:20795-1703597400-1703602800@www.tabitha.org
SUMMARY:Grief Support Group - Aurora
DESCRIPTION:Grief and support groups are open to anyone in the community experiencing loss or needing support. \nPlease call 402.362.7739 to register.
URL:https://www.tabitha.org/event/grief-support-group-aurora/
LOCATION:Aurora Methodist Church\, 1104 A St.\, Aurora\, NE\, 68818\, United States
CATEGORIES:Grief Group
ATTACH;FMTTYPE=image/png:https://www.tabitha.org/wp-content/uploads/2023/12/AuroraSupportGroup.png
END:VEVENT
BEGIN:VEVENT
DTSTART;TZID=UTC:20231213T140000
DTEND;TZID=UTC:20231213T150000
DTSTAMP:20260420T095626
CREATED:20231214T030133Z
LAST-MODIFIED:20240618T150357Z
UID:20780-1702476000-1702479600@www.tabitha.org
SUMMARY:Women's Coffee and Grief Group - Lincoln
DESCRIPTION:A group where grieving women can gather\, connect and share their current or recent experiences with grief. \n\n\n\nRegister
URL:https://www.tabitha.org/event/womens-coffee-and-grief-group-lincoln/
LOCATION:Scooter’s Coffee – S. 84th\, 2901 S. 84th St.\, Lincoln\, NE\, 68506\, United States
CATEGORIES:Grief Group
ATTACH;FMTTYPE=image/png:https://www.tabitha.org/wp-content/uploads/2023/12/Coffee_Womens-Group.png
END:VEVENT
BEGIN:VEVENT
DTSTART;TZID=UTC:20231219T130000
DTEND;TZID=UTC:20231219T140000
DTSTAMP:20260420T095626
CREATED:20231214T015131Z
LAST-MODIFIED:20231215T204534Z
UID:20771-1702990800-1702994400@www.tabitha.org
SUMMARY:Men's Coffee and Grief Group - Lincoln
DESCRIPTION:Gather to learn about others’ grief\, share stories and discuss where you are in your own grieving journey. \n\n\n\n\nRegister
URL:https://www.tabitha.org/event/mens-coffee-and-grief-group-lincoln/
LOCATION:Scooter’s Coffee\, 4500 S. 70th St.\, Lincoln\, NE\, 68516\, United States
CATEGORIES:Grief Group
ATTACH;FMTTYPE=image/png:https://www.tabitha.org/wp-content/uploads/2023/12/MensCoffee_Grief-copy_SM.png
END:VEVENT
BEGIN:VEVENT
DTSTART;TZID=UTC:20231213T140000
DTEND;TZID=UTC:20231213T150000
DTSTAMP:20260420T095626
CREATED:20231214T030133Z
LAST-MODIFIED:20240618T150357Z
UID:20780-1702476000-1702479600@www.tabitha.org
SUMMARY:Women's Coffee and Grief Group - Lincoln
DESCRIPTION:A group where grieving women can gather\, connect and share their current or recent experiences with grief. \n\n\n\nRegister
URL:https://www.tabitha.org/event/womens-coffee-and-grief-group-lincoln/
LOCATION:Scooter’s Coffee – S. 84th\, 2901 S. 84th St.\, Lincoln\, NE\, 68506\, United States
CATEGORIES:Grief Group
ATTACH;FMTTYPE=image/png:https://www.tabitha.org/wp-content/uploads/2023/12/Coffee_Womens-Group.png
END:VEVENT
BEGIN:VEVENT
DTSTART;TZID=UTC:20231219T130000
DTEND;TZID=UTC:20231219T140000
DTSTAMP:20260420T095626
CREATED:20231214T015131Z
LAST-MODIFIED:20231215T204534Z
UID:20771-1702990800-1702994400@www.tabitha.org
SUMMARY:Men's Coffee and Grief Group - Lincoln
DESCRIPTION:Gather to learn about others’ grief\, share stories and discuss where you are in your own grieving journey. \n\n\n\n\nRegister
URL:https://www.tabitha.org/event/mens-coffee-and-grief-group-lincoln/
LOCATION:Scooter’s Coffee\, 4500 S. 70th St.\, Lincoln\, NE\, 68516\, United States
CATEGORIES:Grief Group
ATTACH;FMTTYPE=image/png:https://www.tabitha.org/wp-content/uploads/2023/12/MensCoffee_Grief-copy_SM.png
END:VEVENT
BEGIN:VEVENT
DTSTART;TZID=UTC:20240109T170000
DTEND;TZID=UTC:20240109T183000
DTSTAMP:20260420T095626
CREATED:20231214T033044Z
LAST-MODIFIED:20240618T150042Z
UID:20790-1704819600-1704825000@www.tabitha.org
SUMMARY:Grief Support Group – Seward
DESCRIPTION:Grief and support groups are open to anyone in the community experiencing loss or needing support. \nPlease call 402.362.7739 to register.
URL:https://www.tabitha.org/event/grief-support-group-seward/
LOCATION:St. Andrew’s Episcopal Church\, 1014 N. 6th St\, Seward\, NE\, 68434\, United States
CATEGORIES:Grief Group
ATTACH;FMTTYPE=image/png:https://www.tabitha.org/wp-content/uploads/2023/12/SewardSupportGroup.png
END:VEVENT
BEGIN:VEVENT
DTSTART;TZID=UTC:20231213T140000
DTEND;TZID=UTC:20231213T150000
DTSTAMP:20260420T095626
CREATED:20231214T030133Z
LAST-MODIFIED:20240618T150357Z
UID:20780-1702476000-1702479600@www.tabitha.org
SUMMARY:Women's Coffee and Grief Group - Lincoln
DESCRIPTION:A group where grieving women can gather\, connect and share their current or recent experiences with grief. \n\n\n\nRegister
URL:https://www.tabitha.org/event/womens-coffee-and-grief-group-lincoln/
LOCATION:Scooter’s Coffee – S. 84th\, 2901 S. 84th St.\, Lincoln\, NE\, 68506\, United States
CATEGORIES:Grief Group
ATTACH;FMTTYPE=image/png:https://www.tabitha.org/wp-content/uploads/2023/12/Coffee_Womens-Group.png
END:VEVENT
BEGIN:VEVENT
DTSTART;TZID=UTC:20231219T130000
DTEND;TZID=UTC:20231219T140000
DTSTAMP:20260420T095626
CREATED:20231214T015131Z
LAST-MODIFIED:20231215T204534Z
UID:20771-1702990800-1702994400@www.tabitha.org
SUMMARY:Men's Coffee and Grief Group - Lincoln
DESCRIPTION:Gather to learn about others’ grief\, share stories and discuss where you are in your own grieving journey. \n\n\n\n\nRegister
URL:https://www.tabitha.org/event/mens-coffee-and-grief-group-lincoln/
LOCATION:Scooter’s Coffee\, 4500 S. 70th St.\, Lincoln\, NE\, 68516\, United States
CATEGORIES:Grief Group
ATTACH;FMTTYPE=image/png:https://www.tabitha.org/wp-content/uploads/2023/12/MensCoffee_Grief-copy_SM.png
END:VEVENT
BEGIN:VEVENT
DTSTART;TZID=UTC:20231213T140000
DTEND;TZID=UTC:20231213T150000
DTSTAMP:20260420T095626
CREATED:20231214T030133Z
LAST-MODIFIED:20240618T150357Z
UID:20780-1702476000-1702479600@www.tabitha.org
SUMMARY:Women's Coffee and Grief Group - Lincoln
DESCRIPTION:A group where grieving women can gather\, connect and share their current or recent experiences with grief. \n\n\n\nRegister
URL:https://www.tabitha.org/event/womens-coffee-and-grief-group-lincoln/
LOCATION:Scooter’s Coffee – S. 84th\, 2901 S. 84th St.\, Lincoln\, NE\, 68506\, United States
CATEGORIES:Grief Group
ATTACH;FMTTYPE=image/png:https://www.tabitha.org/wp-content/uploads/2023/12/Coffee_Womens-Group.png
END:VEVENT
BEGIN:VEVENT
DTSTART;TZID=UTC:20231219T130000
DTEND;TZID=UTC:20231219T140000
DTSTAMP:20260420T095626
CREATED:20231214T015131Z
LAST-MODIFIED:20231215T204534Z
UID:20771-1702990800-1702994400@www.tabitha.org
SUMMARY:Men's Coffee and Grief Group - Lincoln
DESCRIPTION:Gather to learn about others’ grief\, share stories and discuss where you are in your own grieving journey. \n\n\n\n\nRegister
URL:https://www.tabitha.org/event/mens-coffee-and-grief-group-lincoln/
LOCATION:Scooter’s Coffee\, 4500 S. 70th St.\, Lincoln\, NE\, 68516\, United States
CATEGORIES:Grief Group
ATTACH;FMTTYPE=image/png:https://www.tabitha.org/wp-content/uploads/2023/12/MensCoffee_Grief-copy_SM.png
END:VEVENT
BEGIN:VEVENT
DTSTART;TZID=UTC:20231213T140000
DTEND;TZID=UTC:20231213T150000
DTSTAMP:20260420T095626
CREATED:20231214T030133Z
LAST-MODIFIED:20240618T150357Z
UID:20780-1702476000-1702479600@www.tabitha.org
SUMMARY:Women's Coffee and Grief Group - Lincoln
DESCRIPTION:A group where grieving women can gather\, connect and share their current or recent experiences with grief. \n\n\n\nRegister
URL:https://www.tabitha.org/event/womens-coffee-and-grief-group-lincoln/
LOCATION:Scooter’s Coffee – S. 84th\, 2901 S. 84th St.\, Lincoln\, NE\, 68506\, United States
CATEGORIES:Grief Group
ATTACH;FMTTYPE=image/png:https://www.tabitha.org/wp-content/uploads/2023/12/Coffee_Womens-Group.png
END:VEVENT
BEGIN:VEVENT
DTSTART;TZID=UTC:20231219T130000
DTEND;TZID=UTC:20231219T140000
DTSTAMP:20260420T095626
CREATED:20231214T015131Z
LAST-MODIFIED:20231215T204534Z
UID:20771-1702990800-1702994400@www.tabitha.org
SUMMARY:Men's Coffee and Grief Group - Lincoln
DESCRIPTION:Gather to learn about others’ grief\, share stories and discuss where you are in your own grieving journey. \n\n\n\n\nRegister
URL:https://www.tabitha.org/event/mens-coffee-and-grief-group-lincoln/
LOCATION:Scooter’s Coffee\, 4500 S. 70th St.\, Lincoln\, NE\, 68516\, United States
CATEGORIES:Grief Group
ATTACH;FMTTYPE=image/png:https://www.tabitha.org/wp-content/uploads/2023/12/MensCoffee_Grief-copy_SM.png
END:VEVENT
BEGIN:VEVENT
DTSTART;TZID=UTC:20231226T133000
DTEND;TZID=UTC:20231226T150000
DTSTAMP:20260420T095626
CREATED:20231214T033718Z
LAST-MODIFIED:20240618T145709Z
UID:20795-1703597400-1703602800@www.tabitha.org
SUMMARY:Grief Support Group - Aurora
DESCRIPTION:Grief and support groups are open to anyone in the community experiencing loss or needing support. \nPlease call 402.362.7739 to register.
URL:https://www.tabitha.org/event/grief-support-group-aurora/
LOCATION:Aurora Methodist Church\, 1104 A St.\, Aurora\, NE\, 68818\, United States
CATEGORIES:Grief Group
ATTACH;FMTTYPE=image/png:https://www.tabitha.org/wp-content/uploads/2023/12/AuroraSupportGroup.png
END:VEVENT
BEGIN:VEVENT
DTSTART;TZID=UTC:20240131T120000
DTEND;TZID=UTC:20240131T180000
DTSTAMP:20260420T095626
CREATED:20231216T033937Z
LAST-MODIFIED:20231216T034008Z
UID:20964-1706702400-1706724000@www.tabitha.org
SUMMARY:TNRC Hiring Event
DESCRIPTION:
URL:https://www.tabitha.org/event/tnrc-hiring-event/
LOCATION:Tabitha Nursing & Rehabilitation Center\, 4720 Randolph Street\, Lincoln\, NE\, 68510\, United States
CATEGORIES:Hiring Event
END:VEVENT
BEGIN:VEVENT
DTSTART;TZID=UTC:20231213T140000
DTEND;TZID=UTC:20231213T150000
DTSTAMP:20260420T095626
CREATED:20231214T030133Z
LAST-MODIFIED:20240618T150357Z
UID:20780-1702476000-1702479600@www.tabitha.org
SUMMARY:Women's Coffee and Grief Group - Lincoln
DESCRIPTION:A group where grieving women can gather\, connect and share their current or recent experiences with grief. \n\n\n\nRegister
URL:https://www.tabitha.org/event/womens-coffee-and-grief-group-lincoln/
LOCATION:Scooter’s Coffee – S. 84th\, 2901 S. 84th St.\, Lincoln\, NE\, 68506\, United States
CATEGORIES:Grief Group
ATTACH;FMTTYPE=image/png:https://www.tabitha.org/wp-content/uploads/2023/12/Coffee_Womens-Group.png
END:VEVENT
BEGIN:VEVENT
DTSTART;TZID=UTC:20231219T130000
DTEND;TZID=UTC:20231219T140000
DTSTAMP:20260420T095626
CREATED:20231214T015131Z
LAST-MODIFIED:20231215T204534Z
UID:20771-1702990800-1702994400@www.tabitha.org
SUMMARY:Men's Coffee and Grief Group - Lincoln
DESCRIPTION:Gather to learn about others’ grief\, share stories and discuss where you are in your own grieving journey. \n\n\n\n\nRegister
URL:https://www.tabitha.org/event/mens-coffee-and-grief-group-lincoln/
LOCATION:Scooter’s Coffee\, 4500 S. 70th St.\, Lincoln\, NE\, 68516\, United States
CATEGORIES:Grief Group
ATTACH;FMTTYPE=image/png:https://www.tabitha.org/wp-content/uploads/2023/12/MensCoffee_Grief-copy_SM.png
END:VEVENT
BEGIN:VEVENT
DTSTART;TZID=UTC:20231213T140000
DTEND;TZID=UTC:20231213T150000
DTSTAMP:20260420T095626
CREATED:20231214T030133Z
LAST-MODIFIED:20240618T150357Z
UID:20780-1702476000-1702479600@www.tabitha.org
SUMMARY:Women's Coffee and Grief Group - Lincoln
DESCRIPTION:A group where grieving women can gather\, connect and share their current or recent experiences with grief. \n\n\n\nRegister
URL:https://www.tabitha.org/event/womens-coffee-and-grief-group-lincoln/
LOCATION:Scooter’s Coffee – S. 84th\, 2901 S. 84th St.\, Lincoln\, NE\, 68506\, United States
CATEGORIES:Grief Group
ATTACH;FMTTYPE=image/png:https://www.tabitha.org/wp-content/uploads/2023/12/Coffee_Womens-Group.png
END:VEVENT
BEGIN:VEVENT
DTSTART;TZID=UTC:20231219T130000
DTEND;TZID=UTC:20231219T140000
DTSTAMP:20260420T095626
CREATED:20231214T015131Z
LAST-MODIFIED:20231215T204534Z
UID:20771-1702990800-1702994400@www.tabitha.org
SUMMARY:Men's Coffee and Grief Group - Lincoln
DESCRIPTION:Gather to learn about others’ grief\, share stories and discuss where you are in your own grieving journey. \n\n\n\n\nRegister
URL:https://www.tabitha.org/event/mens-coffee-and-grief-group-lincoln/
LOCATION:Scooter’s Coffee\, 4500 S. 70th St.\, Lincoln\, NE\, 68516\, United States
CATEGORIES:Grief Group
ATTACH;FMTTYPE=image/png:https://www.tabitha.org/wp-content/uploads/2023/12/MensCoffee_Grief-copy_SM.png
END:VEVENT
BEGIN:VEVENT
DTSTART;TZID=UTC:20240109T170000
DTEND;TZID=UTC:20240109T183000
DTSTAMP:20260420T095626
CREATED:20231214T033044Z
LAST-MODIFIED:20240618T150042Z
UID:20790-1704819600-1704825000@www.tabitha.org
SUMMARY:Grief Support Group – Seward
DESCRIPTION:Grief and support groups are open to anyone in the community experiencing loss or needing support. \nPlease call 402.362.7739 to register.
URL:https://www.tabitha.org/event/grief-support-group-seward/
LOCATION:St. Andrew’s Episcopal Church\, 1014 N. 6th St\, Seward\, NE\, 68434\, United States
CATEGORIES:Grief Group
ATTACH;FMTTYPE=image/png:https://www.tabitha.org/wp-content/uploads/2023/12/SewardSupportGroup.png
END:VEVENT
BEGIN:VEVENT
DTSTART;TZID=UTC:20231213T140000
DTEND;TZID=UTC:20231213T150000
DTSTAMP:20260420T095626
CREATED:20231214T030133Z
LAST-MODIFIED:20240618T150357Z
UID:20780-1702476000-1702479600@www.tabitha.org
SUMMARY:Women's Coffee and Grief Group - Lincoln
DESCRIPTION:A group where grieving women can gather\, connect and share their current or recent experiences with grief. \n\n\n\nRegister
URL:https://www.tabitha.org/event/womens-coffee-and-grief-group-lincoln/
LOCATION:Scooter’s Coffee – S. 84th\, 2901 S. 84th St.\, Lincoln\, NE\, 68506\, United States
CATEGORIES:Grief Group
ATTACH;FMTTYPE=image/png:https://www.tabitha.org/wp-content/uploads/2023/12/Coffee_Womens-Group.png
END:VEVENT
BEGIN:VEVENT
DTSTART;TZID=UTC:20240215T140000
DTEND;TZID=UTC:20240215T150000
DTSTAMP:20260420T095626
CREATED:20231216T022222Z
LAST-MODIFIED:20231216T022222Z
UID:20942-1708005600-1708009200@www.tabitha.org
SUMMARY:Loving Kindness Meditation
DESCRIPTION:A guided\, peaceful meditation session that will allow you to feel kindness toward yourself in your grief journey\, and allow you time to just breathe. No fees\, experiences or materials needed. \n\n\n\n\nRegister
URL:https://www.tabitha.org/event/loving-kindness-meditation/
LOCATION:S²age Living – Innovation Studio\, 420 S. 47th St.\, Lincoln\, NE\, 68510\, United States
CATEGORIES:Grief Group
ATTACH;FMTTYPE=image/png:https://www.tabitha.org/wp-content/uploads/2023/12/senior-woman-doing-meditation-session-2023-11-27-04-50-32-utc-copy.png
END:VEVENT
BEGIN:VEVENT
DTSTART;TZID=UTC:20231219T130000
DTEND;TZID=UTC:20231219T140000
DTSTAMP:20260420T095626
CREATED:20231214T015131Z
LAST-MODIFIED:20231215T204534Z
UID:20771-1702990800-1702994400@www.tabitha.org
SUMMARY:Men's Coffee and Grief Group - Lincoln
DESCRIPTION:Gather to learn about others’ grief\, share stories and discuss where you are in your own grieving journey. \n\n\n\n\nRegister
URL:https://www.tabitha.org/event/mens-coffee-and-grief-group-lincoln/
LOCATION:Scooter’s Coffee\, 4500 S. 70th St.\, Lincoln\, NE\, 68516\, United States
CATEGORIES:Grief Group
ATTACH;FMTTYPE=image/png:https://www.tabitha.org/wp-content/uploads/2023/12/MensCoffee_Grief-copy_SM.png
END:VEVENT
BEGIN:VEVENT
DTSTART;TZID=UTC:20231213T140000
DTEND;TZID=UTC:20231213T150000
DTSTAMP:20260420T095626
CREATED:20231214T030133Z
LAST-MODIFIED:20240618T150357Z
UID:20780-1702476000-1702479600@www.tabitha.org
SUMMARY:Women's Coffee and Grief Group - Lincoln
DESCRIPTION:A group where grieving women can gather\, connect and share their current or recent experiences with grief. \n\n\n\nRegister
URL:https://www.tabitha.org/event/womens-coffee-and-grief-group-lincoln/
LOCATION:Scooter’s Coffee – S. 84th\, 2901 S. 84th St.\, Lincoln\, NE\, 68506\, United States
CATEGORIES:Grief Group
ATTACH;FMTTYPE=image/png:https://www.tabitha.org/wp-content/uploads/2023/12/Coffee_Womens-Group.png
END:VEVENT
BEGIN:VEVENT
DTSTART;TZID=UTC:20231219T130000
DTEND;TZID=UTC:20231219T140000
DTSTAMP:20260420T095626
CREATED:20231214T015131Z
LAST-MODIFIED:20231215T204534Z
UID:20771-1702990800-1702994400@www.tabitha.org
SUMMARY:Men's Coffee and Grief Group - Lincoln
DESCRIPTION:Gather to learn about others’ grief\, share stories and discuss where you are in your own grieving journey. \n\n\n\n\nRegister
URL:https://www.tabitha.org/event/mens-coffee-and-grief-group-lincoln/
LOCATION:Scooter’s Coffee\, 4500 S. 70th St.\, Lincoln\, NE\, 68516\, United States
CATEGORIES:Grief Group
ATTACH;FMTTYPE=image/png:https://www.tabitha.org/wp-content/uploads/2023/12/MensCoffee_Grief-copy_SM.png
END:VEVENT
BEGIN:VEVENT
DTSTART;TZID=UTC:20231226T133000
DTEND;TZID=UTC:20231226T150000
DTSTAMP:20260420T095626
CREATED:20231214T033718Z
LAST-MODIFIED:20240618T145709Z
UID:20795-1703597400-1703602800@www.tabitha.org
SUMMARY:Grief Support Group - Aurora
DESCRIPTION:Grief and support groups are open to anyone in the community experiencing loss or needing support. \nPlease call 402.362.7739 to register.
URL:https://www.tabitha.org/event/grief-support-group-aurora/
LOCATION:Aurora Methodist Church\, 1104 A St.\, Aurora\, NE\, 68818\, United States
CATEGORIES:Grief Group
ATTACH;FMTTYPE=image/png:https://www.tabitha.org/wp-content/uploads/2023/12/AuroraSupportGroup.png
END:VEVENT
BEGIN:VEVENT
DTSTART;TZID=UTC:20231213T140000
DTEND;TZID=UTC:20231213T150000
DTSTAMP:20260420T095626
CREATED:20231214T030133Z
LAST-MODIFIED:20240618T150357Z
UID:20780-1702476000-1702479600@www.tabitha.org
SUMMARY:Women's Coffee and Grief Group - Lincoln
DESCRIPTION:A group where grieving women can gather\, connect and share their current or recent experiences with grief. \n\n\n\nRegister
URL:https://www.tabitha.org/event/womens-coffee-and-grief-group-lincoln/
LOCATION:Scooter’s Coffee – S. 84th\, 2901 S. 84th St.\, Lincoln\, NE\, 68506\, United States
CATEGORIES:Grief Group
ATTACH;FMTTYPE=image/png:https://www.tabitha.org/wp-content/uploads/2023/12/Coffee_Womens-Group.png
END:VEVENT
BEGIN:VEVENT
DTSTART;TZID=UTC:20231219T130000
DTEND;TZID=UTC:20231219T140000
DTSTAMP:20260420T095626
CREATED:20231214T015131Z
LAST-MODIFIED:20231215T204534Z
UID:20771-1702990800-1702994400@www.tabitha.org
SUMMARY:Men's Coffee and Grief Group - Lincoln
DESCRIPTION:Gather to learn about others’ grief\, share stories and discuss where you are in your own grieving journey. \n\n\n\n\nRegister
URL:https://www.tabitha.org/event/mens-coffee-and-grief-group-lincoln/
LOCATION:Scooter’s Coffee\, 4500 S. 70th St.\, Lincoln\, NE\, 68516\, United States
CATEGORIES:Grief Group
ATTACH;FMTTYPE=image/png:https://www.tabitha.org/wp-content/uploads/2023/12/MensCoffee_Grief-copy_SM.png
END:VEVENT
BEGIN:VEVENT
DTSTART;TZID=UTC:20231213T140000
DTEND;TZID=UTC:20231213T150000
DTSTAMP:20260420T095626
CREATED:20231214T030133Z
LAST-MODIFIED:20240618T150357Z
UID:20780-1702476000-1702479600@www.tabitha.org
SUMMARY:Women's Coffee and Grief Group - Lincoln
DESCRIPTION:A group where grieving women can gather\, connect and share their current or recent experiences with grief. \n\n\n\nRegister
URL:https://www.tabitha.org/event/womens-coffee-and-grief-group-lincoln/
LOCATION:Scooter’s Coffee – S. 84th\, 2901 S. 84th St.\, Lincoln\, NE\, 68506\, United States
CATEGORIES:Grief Group
ATTACH;FMTTYPE=image/png:https://www.tabitha.org/wp-content/uploads/2023/12/Coffee_Womens-Group.png
END:VEVENT
BEGIN:VEVENT
DTSTART;TZID=UTC:20231219T130000
DTEND;TZID=UTC:20231219T140000
DTSTAMP:20260420T095626
CREATED:20231214T015131Z
LAST-MODIFIED:20231215T204534Z
UID:20771-1702990800-1702994400@www.tabitha.org
SUMMARY:Men's Coffee and Grief Group - Lincoln
DESCRIPTION:Gather to learn about others’ grief\, share stories and discuss where you are in your own grieving journey. \n\n\n\n\nRegister
URL:https://www.tabitha.org/event/mens-coffee-and-grief-group-lincoln/
LOCATION:Scooter’s Coffee\, 4500 S. 70th St.\, Lincoln\, NE\, 68516\, United States
CATEGORIES:Grief Group
ATTACH;FMTTYPE=image/png:https://www.tabitha.org/wp-content/uploads/2023/12/MensCoffee_Grief-copy_SM.png
END:VEVENT
END:VCALENDAR